BEGIN:VCALENDAR
VERSION:2.0
METHOD:PUBLISH
PRODID:-//FSRM//COURS//EN
BEGIN:VEVENT
UID:e34bc27b806f46decf8b373cebf67ab2@fsrm.ch
DTSTAMP:20260425T212031Z
DTSTART:20260511T090000
DTEND:20260511T170000
LOCATION:Neuchâtel - FSRM
SUMMARY:FSRM - Introduction à la montre mécanique
DESCRIPTION:LIEU: https://fsrm.ch/site/index.php/acces/
BEGIN:VALARM
TRIGGER:-P14DT0H00M0S
REPEAT:2
DURATION:PT240M
ACTION:DISPLAY
DESCRIPTION: Rappel Cours FSRM - Le délai d\'inscription est demain !
END:VALARM
END:VEVENT
END:VCALENDAR
