BEGIN:VCALENDAR
VERSION:2.0
METHOD:PUBLISH
PRODID:-//FSRM//COURS//EN
BEGIN:VEVENT
UID:9cc5ccae54353014570417703d5b644d@fsrm.ch
DTSTAMP:20260422T075023Z
DTSTART:20260622T090000
DTEND:20260623T170000
LOCATION:Neuchâtel - FSRM
SUMMARY:FSRM - La cotation fonctionnelle et géométrique suivant la norme ISO GPS : de la définition au contrôle
DESCRIPTION:LIEU: https://fsrm.ch/site/index.php/acces/
BEGIN:VALARM
TRIGGER:-P14DT0H00M0S
REPEAT:2
DURATION:PT240M
ACTION:DISPLAY
DESCRIPTION: Rappel Cours FSRM - Le délai d\'inscription est demain !
END:VALARM
END:VEVENT
END:VCALENDAR
