BEGIN:VCALENDAR
VERSION:2.0
METHOD:PUBLISH
PRODID:-//FSRM//COURS//EN
BEGIN:VEVENT
UID:91db598f108f602794248ba94eac6dbb@fsrm.ch
DTSTAMP:20260422T025520Z
DTSTART:20261112T090000
DTEND:20261113T170000
LOCATION:Neuchâtel - FSRM
SUMMARY:FSRM - Introduction à la tribologie
DESCRIPTION:LIEU: https://fsrm.ch/site/index.php/acces/
BEGIN:VALARM
TRIGGER:-P14DT0H00M0S
REPEAT:2
DURATION:PT240M
ACTION:DISPLAY
DESCRIPTION: Rappel Cours FSRM - Le délai d\'inscription est demain !
END:VALARM
END:VEVENT
END:VCALENDAR
