BEGIN:VCALENDAR
VERSION:2.0
METHOD:PUBLISH
PRODID:-//FSRM//COURS//EN
BEGIN:VEVENT
UID:499a3cf197a3f707d89663e960ed7370@fsrm.ch
DTSTAMP:20260422T025449Z
DTSTART:20261026T090000
DTEND:20261026T170000
LOCATION:Neuchâtel - FSRM
SUMMARY:FSRM - Faites-vous entendre ! La parole et l’impact grâce au théâtre
DESCRIPTION:LIEU: https://fsrm.ch/site/index.php/acces/
BEGIN:VALARM
TRIGGER:-P14DT0H00M0S
REPEAT:2
DURATION:PT240M
ACTION:DISPLAY
DESCRIPTION: Rappel Cours FSRM - Le délai d\'inscription est demain !
END:VALARM
END:VEVENT
END:VCALENDAR
