BEGIN:VCALENDAR
VERSION:2.0
METHOD:PUBLISH
PRODID:-//FSRM//COURS//EN
BEGIN:VEVENT
UID:ff607bd883e0a8f1097f0dd6732785b1@fsrm.ch
DTSTAMP:20260422T025450Z
DTSTART:20270326T090000
DTEND:20270326T170000
LOCATION:Neuchâtel - FSRM
SUMMARY:FSRM - Audit Qualité – Conduite et comportement de l'auditeur (organisation, déroulement, rapport, suivi)
DESCRIPTION:LIEU: https://fsrm.ch/site/index.php/acces/
BEGIN:VALARM
TRIGGER:-P14DT0H00M0S
REPEAT:2
DURATION:PT240M
ACTION:DISPLAY
DESCRIPTION: Rappel Cours FSRM - Le délai d\'inscription est demain !
END:VALARM
END:VEVENT
END:VCALENDAR
