BEGIN:VCALENDAR
VERSION:2.0
METHOD:PUBLISH
PRODID:-//FSRM//COURS//EN
BEGIN:VEVENT
UID:7277bc09732a521bac3fcda39cf83331@fsrm.ch
DTSTAMP:20260422T082410Z
DTSTART:20270225T090000
DTEND:20270225T170000
LOCATION:Neuchâtel - FSRM
SUMMARY:FSRM - Les produits dangereux : manipulation, étiquetage, stockage
DESCRIPTION:LIEU: https://fsrm.ch/site/index.php/acces/
BEGIN:VALARM
TRIGGER:-P14DT0H00M0S
REPEAT:2
DURATION:PT240M
ACTION:DISPLAY
DESCRIPTION: Rappel Cours FSRM - Le délai d\'inscription est demain !
END:VALARM
END:VEVENT
END:VCALENDAR
