BEGIN:VCALENDAR
VERSION:2.0
METHOD:PUBLISH
PRODID:-//FSRM//COURS//EN
BEGIN:VEVENT
UID:8cb1f550ca8e0b02f5c67f7700f56fd6@fsrm.ch
DTSTAMP:20260422T025012Z
DTSTART:20261116T090000
DTEND:20261116T170000
LOCATION:Neuchâtel - FSRM
SUMMARY:FSRM - Traitements tribologiques de surfaces
DESCRIPTION:LIEU: https://fsrm.ch/site/index.php/acces/
BEGIN:VALARM
TRIGGER:-P14DT0H00M0S
REPEAT:2
DURATION:PT240M
ACTION:DISPLAY
DESCRIPTION: Rappel Cours FSRM - Le délai d\'inscription est demain !
END:VALARM
END:VEVENT
END:VCALENDAR
