BEGIN:VCALENDAR
VERSION:2.0
METHOD:PUBLISH
PRODID:-//FSRM//COURS//EN
BEGIN:VEVENT
UID:160b6859377e0ec0f721f5affccf8fd7@fsrm.ch
DTSTAMP:20260422T025011Z
DTSTART:20261207T090000
DTEND:20261207T170000
LOCATION:Neuchâtel - FSRM
SUMMARY:FSRM - Sensibilisation à la cybersécurité
DESCRIPTION:LIEU: https://fsrm.ch/site/index.php/acces/
BEGIN:VALARM
TRIGGER:-P14DT0H00M0S
REPEAT:2
DURATION:PT240M
ACTION:DISPLAY
DESCRIPTION: Rappel Cours FSRM - Le délai d\'inscription est demain !
END:VALARM
END:VEVENT
END:VCALENDAR
